BEGIN:VCALENDAR
VERSION:2.0
PRODID:-//Squarespace Inc/Squarespace 6//v6//EN
BEGIN:VEVENT
UID:5b13f572575d1f3cecfa7cde@squarespace.com
DTSTAMP:20180603T140708Z
DTSTART:20180901T231500Z
DTEND:20180902T231500Z
SUMMARY:Musikschutzgebiet\, HOMBERG\, DE
END:VEVENT
END:VCALENDAR
