BEGIN:VCALENDAR
VERSION:2.0
PRODID:-//Squarespace Inc/Squarespace 6//v6//EN
BEGIN:VEVENT
UID:5b13f2572b6a28386f5b46b0@squarespace.com
DTSTAMP:20180603T135412Z
DTSTART:20180803T231500Z
DTEND:20180804T231500Z
SUMMARY:Let It Roll Festival\, MILOVICE AIRFIELD\, CZ
END:VEVENT
END:VCALENDAR
