BEGIN:VCALENDAR
VERSION:2.0
PRODID:-//Squarespace Inc/Squarespace 6//v6//EN
BEGIN:VEVENT
UID:5b13f14a2b6a28386f5b28c8@squarespace.com
DTSTAMP:20180606T112256Z
DTSTART:20180803T231500Z
DTEND:20180804T231500Z
SUMMARY:Beseda u Bigbítu\, TASOV\, CZ
END:VEVENT
END:VCALENDAR
