BEGIN:VCALENDAR
VERSION:2.0
PRODID:-//Squarespace Inc/Squarespace 6//v6//EN
BEGIN:VEVENT
UID:5b13f4cb1ae6cfd591d4e0f1@squarespace.com
DTSTAMP:20180603T141420Z
DTSTART:20180826T071500Z
DTEND:20180826T101500Z
SUMMARY:Effenaar 't Wasven\, EINDHOVEN\, NL
END:VEVENT
END:VCALENDAR
