BEGIN:VCALENDAR
VERSION:2.0
PRODID:-//Squarespace Inc/Squarespace 6//v6//EN
BEGIN:VEVENT
UID:5b13f3af03ce643a99513ec1@squarespace.com
DTSTAMP:20180603T140137Z
DTSTART:20180819T231500Z
DTEND:20180820T231500Z
SUMMARY:Altes Wettbüro\, DRESDEN\, DE
END:VEVENT
END:VCALENDAR
