BEGIN:VCALENDAR
VERSION:2.0
PRODID:-//Squarespace Inc/Squarespace 6//v6//EN
BEGIN:VEVENT
UID:5b13f34f03ce643a9951348e@squarespace.com
DTSTAMP:20180603T135741Z
DTSTART:20180817T231500Z
DTEND:20180818T231500Z
SUMMARY:Wasserfest\, BERLIN\, DE
END:VEVENT
END:VCALENDAR
