BEGIN:VCALENDAR
VERSION:2.0
PRODID:-//Squarespace Inc/Squarespace 6//v6//EN
BEGIN:VEVENT
UID:5b13f2dc0e2e7280eec2bc5d@squarespace.com
DTSTAMP:20180603T135539Z
DTSTART:20180811T231500Z
DTEND:20180812T101500Z
SUMMARY:Sziget Festival\, BUDAPEST\, HU
END:VEVENT
END:VCALENDAR
