BEGIN:VCALENDAR
VERSION:2.0
PRODID:-//Squarespace Inc/Squarespace 6//v6//EN
BEGIN:VEVENT
UID:5b13f097575d1f3cecf9f702@squarespace.com
DTSTAMP:20180603T134708Z
DTSTART:20180801T071500Z
DTEND:20180801T101500Z
SUMMARY:Strandbar\, KONSTANZ\, DE
END:VEVENT
END:VCALENDAR
