BEGIN:VCALENDAR
VERSION:2.0
PRODID:-//Squarespace Inc/Squarespace 6//v6//EN
BEGIN:VEVENT
UID:5b13ef768a922d2bc9f88ad9@squarespace.com
DTSTAMP:20180603T134151Z
DTSTART:20180726T231500Z
DTEND:20180727T231500Z
SUMMARY:Kulturufer Festival\, FRIEDRICHSHAFEN\, DE
END:VEVENT
END:VCALENDAR
