BEGIN:VCALENDAR
VERSION:2.0
PRODID:-//Squarespace Inc/Squarespace 6//v6//EN
BEGIN:VEVENT
UID:5b13ee8f03ce643a9950b62d@squarespace.com
DTSTAMP:20180603T133753Z
DTSTART:20180726T071500Z
DTEND:20180726T101500Z
SUMMARY:La Bohème\, ZÜRICH\, CH
END:VEVENT
END:VCALENDAR
