BEGIN:VCALENDAR
VERSION:2.0
PRODID:-//Squarespace Inc/Squarespace 6//v6//EN
BEGIN:VEVENT
UID:5b13edb2575d1f3cecf9aee2@squarespace.com
DTSTAMP:20180603T133345Z
DTSTART:20180720T231500Z
DTEND:20180721T231500Z
SUMMARY:Ashphalt Festival\, DÜSSELDORF\, DE
END:VEVENT
END:VCALENDAR
