BEGIN:VCALENDAR
VERSION:2.0
PRODID:-//Squarespace Inc/Squarespace 6//v6//EN
BEGIN:VEVENT
UID:5a591a988165f543ae16acea@squarespace.com
DTSTAMP:20180112T203354Z
DTSTART:20180323T061500Z
DTEND:20180323T091500Z
SUMMARY:Luzern\, Switzerland w/ Jon & Roy
END:VEVENT
END:VCALENDAR
