BEGIN:VCALENDAR
VERSION:2.0
PRODID:-//Squarespace Inc/Squarespace 6//v6//EN
BEGIN:VEVENT
UID:5a5919fa419202e5cdaf5540@squarespace.com
DTSTAMP:20180112T202900Z
DTSTART:20180322T061500Z
DTEND:20180322T091500Z
SUMMARY:Stuttgart\, Germany w/ Jon & Roy
END:VEVENT
END:VCALENDAR
