BEGIN:VCALENDAR
VERSION:2.0
PRODID:-//Squarespace Inc/Squarespace 6//v6//EN
BEGIN:VEVENT
UID:5a591984f9619af68f6194a3@squarespace.com
DTSTAMP:20180112T202629Z
DTSTART:20180321T061500Z
DTEND:20180321T091500Z
SUMMARY:Munich\, Germany w/ Jon & Roy
END:VEVENT
END:VCALENDAR
