BEGIN:VCALENDAR
VERSION:2.0
PRODID:-//Squarespace Inc/Squarespace 6//v6//EN
BEGIN:VEVENT
UID:5a5918f7ec212d4b0f78d5f8@squarespace.com
DTSTAMP:20180112T202400Z
DTSTART:20180320T061500Z
DTEND:20180320T091500Z
SUMMARY:Vienna\, Austria w/ Jon & Roy
END:VEVENT
END:VCALENDAR
