BEGIN:VCALENDAR
VERSION:2.0
PRODID:-//Squarespace Inc/Squarespace 6//v6//EN
BEGIN:VEVENT
UID:5a5917d124a6942cc4faf9bd@squarespace.com
DTSTAMP:20180112T201912Z
DTSTART:20180318T061500Z
DTEND:20180318T091500Z
SUMMARY:Frankfurt\, Germany - w/ Jon & Roy
END:VEVENT
END:VCALENDAR
