BEGIN:VCALENDAR
VERSION:2.0
PRODID:-//Squarespace Inc/Squarespace 6//v6//EN
BEGIN:VEVENT
UID:5a591732c8302591f817ecd5@squarespace.com
DTSTAMP:20180112T201713Z
DTSTART:20180317T061500Z
DTEND:20180317T091500Z
SUMMARY:Bochum\, Germany w/ Jon & Roy
END:VEVENT
END:VCALENDAR
