BEGIN:VCALENDAR
VERSION:2.0
PRODID:-//Squarespace Inc/Squarespace 6//v6//EN
BEGIN:VEVENT
UID:5a59151b24a6942cc4fa6395@squarespace.com
DTSTAMP:20180112T201357Z
DTSTART:20180316T061500Z
DTEND:20180316T091500Z
SUMMARY:Berlin\, Germany - w/ Jon & Roy
END:VEVENT
END:VCALENDAR
