BEGIN:VCALENDAR
VERSION:2.0
PRODID:-//Squarespace Inc/Squarespace 6//v6//EN
BEGIN:VEVENT
UID:5a591f218165f5d21bb76f4e@squarespace.com
DTSTAMP:20180112T205130Z
DTSTART:20180315T061500Z
DTEND:20180315T091500Z
SUMMARY:Utrecht\, Netherlands
END:VEVENT
END:VCALENDAR
