BEGIN:VCALENDAR
VERSION:2.0
PRODID:-//Squarespace Inc/Squarespace 6//v6//EN
BEGIN:VEVENT
UID:5975edf7be6594496c7a2a55@squarespace.com
DTSTAMP:20170725T133530Z
DTSTART:20170924T061500Z
DTEND:20170924T091500Z
SUMMARY:SUN 24 SEPT - MAGDEBURG\, DE
GEO:51.065559;6.867925
LOCATION:Wohnzimmerkonzerte
END:VEVENT
END:VCALENDAR
