BEGIN:VCALENDAR
VERSION:2.0
PRODID:-//Squarespace Inc/Squarespace 6//v6//EN
BEGIN:VEVENT
UID:59a602cd4c0dbf2481466052@squarespace.com
DTSTAMP:20170830T021543Z
DTSTART:20171002T061500Z
DTEND:20171002T091500Z
SUMMARY:MON 2 OCT - HAWKE'S BAY\, NZ
END:VEVENT
END:VCALENDAR
