BEGIN:VCALENDAR
VERSION:2.0
PRODID:-//Squarespace Inc/Squarespace 6//v6//EN
BEGIN:VEVENT
UID:58d86cce3e00bed5028d120f@squarespace.com
DTSTAMP:20170327T020716Z
DTSTART:20170506T081500Z
DTEND:20170506T101500Z
SUMMARY:SAT 6 MAY - LEIGH
GEO:-36.289333;174.798478
LOCATION:Leigh Sawmill
END:VEVENT
END:VCALENDAR
