BEGIN:VCALENDAR
VERSION:2.0
PRODID:-//Squarespace Inc/Squarespace 6//v6//EN
BEGIN:VEVENT
UID:58d86dc4be6594e2e03db878@squarespace.com
DTSTAMP:20170327T020648Z
DTSTART:20170512T074500Z
DTEND:20170512T094500Z
SUMMARY:FRI 12 MAY - CHRISTCHURCH
GEO:-43.556814;172.680258
LOCATION:Blue Smoke\, 3 Garlands Road\, Christchurch\, Canterbury\, 8023\, 
 New Zealand
END:VEVENT
END:VCALENDAR
