BEGIN:VCALENDAR
VERSION:2.0
PRODID:-//Squarespace Inc/Squarespace 6//v6//EN
BEGIN:VEVENT
UID:5a3ecbf7e4966b794fd048e6@squarespace.com
DTSTAMP:20171223T213828Z
DTSTART:20171226T001500Z
DTEND:20171226T091500Z
SUMMARY:BOXING DAY at Cape Estate
END:VEVENT
END:VCALENDAR
