BEGIN:VCALENDAR
VERSION:2.0
PRODID:-//Squarespace Inc/Squarespace 6//v6//EN
BEGIN:VEVENT
UID:59a60759914e6b64ff8501a5@squarespace.com
DTSTAMP:20170830T021828Z
DTSTART:20171003T061500Z
DTEND:20171003T091500Z
SUMMARY:TUE 3 OCT - HAWKE'S BAY\, NZ
END:VEVENT
END:VCALENDAR
