BEGIN:VCALENDAR
VERSION:2.0
PRODID:-//Squarespace Inc/Squarespace 6//v6//EN
BEGIN:VEVENT
UID:59a608b9e3df28f2da135e00@squarespace.com
DTSTAMP:20170830T022037Z
DTSTART:20171021T061500Z
DTEND:20171021T091500Z
SUMMARY:SAT 21 OCT - NELSON\, NZ
END:VEVENT
END:VCALENDAR
